BEGIN:VCALENDAR
METHOD:PUBLISH
VERSION:2.0
CALSCALE:GREGORIAN
PRODID:-//NONSGML WPForms//NONSGML Sugar Calendar Feeds v3.11.0//EN
X-WR-CALNAME:Dress Rehearsal
X-WR-CALDESC:Pilgrim Festival Chorus
X-WR-TIMEZONE:America/New_York
BEGIN:VTIMEZONE
TZID:America/New_York
BEGIN:DAYLIGHT
TZOFFSETFROM:-0500
TZOFFSETTO:-0400
DTSTART:20260308T070000
TZNAME:EDT
END:DAYLIGHT
END:VTIMEZONE
BEGIN:VTIMEZONE
TZID:America/New_York
BEGIN:DAYLIGHT
TZOFFSETFROM:-0500
TZOFFSETTO:-0400
DTSTART:20260308T070000
TZNAME:EDT
END:DAYLIGHT
END:VTIMEZONE
BEGIN:VEVENT
SUMMARY:Dress Rehearsal
DESCRIPTION:
URL;VALUE=URI:https://www.pilgrimfestivalchorus.org/events/dress-rehears
 al-3/
UID:urn:uuid:64edbf06-e657-48f4-bb0d-09efd588354e
STATUS:CONFIRMED
ORGANIZER:
DTSTAMP:20260419T001035Z
DTSTART;TZID=America/New_York:20260718T170000
DTEND;TZID=America/New_York:20260718T183000
LOCATION:1 Conservatory Drive
END:VEVENT
END:VCALENDAR